BEGIN:VCALENDAR
VERSION:2.0
PRODID:gruene-kreis-kleve.de
METHOD:PUBLISH
BEGIN:VTIMEZONE
TZID:Europe/Berlin
X-LIC-LOCATION:Europe/Berlin
BEGIN:DAYLIGHT
TZOFFSETFROM:+0100
TZOFFSETTO:+0200
TZNAME:CEST
DTSTART:19700329T020000
RRULE:FREQ=YEARLY;INTERVAL=1;BYDAY=-1SU;BYMONTH=3
END:DAYLIGHT
BEGIN:STANDARD
TZOFFSETFROM:+0200
TZOFFSETTO:+0100
TZNAME:CET
DTSTART:19701025T030000
RRULE:FREQ=YEARLY;INTERVAL=1;BYDAY=-1SU;BYMONTH=10
END:STANDARD
END:VTIMEZONE
BEGIN:VEVENT
UID:339af22893d9259a8874d0b61c8e12ad@gruene-kreis-kleve.de
URL;VALUE=URI:https://gruene-kreis-kleve.de/termine/seniorenvertretung-de
 s-kreises-kleve-2/
LOCATION:Kreishaus Kleve, 47533 Kleve, Maywaldsaal
SUMMARY:Seniorenvertretung des Kreises Kleve
DESCRIPTION;ALTREP="data:text/html,%3Cp%3ELink%20zur%20Tagesordnung%3A%20
 https%3A%2F%2Fkis.kreis-kleve.de%2Ftops%2F%3F__%3DUGhVM0hpd2NXNFdFcExjZTD
 2G9HSLIRSNBdifKNkZS8%3C%2Fp%3E":Link zur Tagesordnung: https://kis.kreis-
 kleve.de/tops/?__=UGhVM0hpd2NXNFdFcExjZTD2G9HSLIRSNBdifKNkZS8
CLASS:PUBLIC
DTSTART;TZID=Europe/Berlin:20260709T160000
DTEND;TZID=Europe/Berlin:20260709T170000
DTSTAMP:20260424T125202
END:VEVENT
END:VCALENDAR